BEGIN:VCALENDAR
VERSION:2.0
PRODID:-//Engage Training - ECPv6.15.12.2//NONSGML v1.0//EN
CALSCALE:GREGORIAN
METHOD:PUBLISH
X-WR-CALNAME:Engage Training
X-ORIGINAL-URL:https://www.engagetraining.ie
X-WR-CALDESC:Events for Engage Training
REFRESH-INTERVAL;VALUE=DURATION:PT1H
X-Robots-Tag:noindex
X-PUBLISHED-TTL:PT1H
BEGIN:VTIMEZONE
TZID:Europe/Dublin
BEGIN:STANDARD
TZOFFSETFROM:+0000
TZOFFSETTO:+0100
TZNAME:IST
DTSTART:20250330T010000
END:STANDARD
BEGIN:DAYLIGHT
TZOFFSETFROM:+0100
TZOFFSETTO:+0000
TZNAME:GMT
DTSTART:20251026T010000
END:DAYLIGHT
BEGIN:STANDARD
TZOFFSETFROM:+0000
TZOFFSETTO:+0100
TZNAME:IST
DTSTART:20260329T010000
END:STANDARD
BEGIN:DAYLIGHT
TZOFFSETFROM:+0100
TZOFFSETTO:+0000
TZNAME:GMT
DTSTART:20261025T010000
END:DAYLIGHT
BEGIN:STANDARD
TZOFFSETFROM:+0000
TZOFFSETTO:+0100
TZNAME:IST
DTSTART:20270328T010000
END:STANDARD
BEGIN:DAYLIGHT
TZOFFSETFROM:+0100
TZOFFSETTO:+0000
TZNAME:GMT
DTSTART:20271031T010000
END:DAYLIGHT
END:VTIMEZONE
BEGIN:VEVENT
DTSTART;TZID=Europe/Dublin:20260218T140000
DTEND;TZID=Europe/Dublin:20260218T170000
DTSTAMP:20260419T142638
CREATED:20260123T170416Z
LAST-MODIFIED:20260216T085022Z
UID:10000295-1771423200-1771434000@www.engagetraining.ie
SUMMARY:On Feirm Ground 2 - Wellbeing for Farming Community Group 2
DESCRIPTION:On Feirm Ground 2 \nOn Feirm Ground 2 is the next phase of our nationally recognized program\, designed to support the health and wellbeing of the farming community. This initiative is proudly endorsed by the Department of Agriculture\, Food and the Marine\, the Department of Health\, and the HSE. \nProgram Aim\nThis training equips both current and future agricultural professionals and service providers with the skills to effectively engage with farmers on health and wellbeing topics. Whether you interact on the farm\, in the office\, or over the phone\, you will learn to confidently support farmers and signpost them to relevant services when needed. \nThe In-Person Experiential Learning \nThe program will be run in the evening: 2pm-5pm – Free coffee/tea ad snakcs will be provided during the break! \nProgram is has been split in to two sections and will be run on the 16th and 18th of Feb. (Mandatory to attend both days) \nPreparing for the Session: Recommended E-Learning\nTo enhance your in-person experience\, we provide an introductory e-learning module. This component offers valuable background on the social determinants of health and the development of the On Feirm Ground program. \nWe highly recommend completing this module before your session\, as it enriches the group discussions and practical activities. Participants will receive a link to the e-learning one week prior to the in-person program. \nUnable to complete the e-learning? Don’t worry—we will begin the session with a recap to ensure everyone is prepared to participate fully \n  \nWe are looking forward to seeing you there! 
URL:https://www.engagetraining.ie/event/on-feirm-ground-2-wellbeing-for-farming-community-group-2/2026-02-18/
LOCATION:Dundalk IT
END:VEVENT
END:VCALENDAR